BEGIN:VCALENDAR
VERSION:2.0
PRODID:-//Tukios.com/
BEGIN:VEVENT
UID:385cbac3-288d-4a0d-af29-f8f241b568b7@www.smithfuneralhomesc.com
DTSTAMP:20260421T192237Z
DTSTART:20260424T150000Z
DTEND:20260424T160000Z
SUMMARY:Funeral Service
DESCRIPTION:
URL:https://www.smithfuneralhomesc.com/obituaries/stephanie-hyman
LOCATION: 1917 N. Old River Rd.   Pamplico  SC 29583
GEO:34.0599639;-79.5457454
END:VEVENT
END:VCALENDAR