BEGIN:VCALENDAR
VERSION:2.0
PRODID:-//Tukios.com/
BEGIN:VEVENT
UID:0739822e-80fe-4ab7-96f1-d7a1b379ee71@www.smithfuneralhomesc.com
DTSTAMP:20260421T192502Z
DTSTART:20260424
SUMMARY:Interment
DESCRIPTION:
URL:https://www.smithfuneralhomesc.com/obituaries/stephanie-hyman
LOCATION: 1917 N. Old River Rd.   Pamplico  SC 29583
GEO:34.0599639;-79.5457454
END:VEVENT
END:VCALENDAR